BEGIN:VCALENDAR
VERSION:2.0
PRODID:-//Te Rūnanga o Ngāi Tahu/Hui-ā-Iwi 2024//NONSGML v1.0//EN
CALSCALE:GREGORIAN
BEGIN:VEVENT
DTSTAMP:20240707T230521Z
UID:82bc9a70343285c6732a05b208c1a3ee
DTSTART:20241122T033000Z
DTEND:20241124T020000Z
SUMMARY:Hui-ā-Iwi 2024
DESCRIPTION:Hui-ā-Iwi 2024 was hosted by Te Rūnanga o Kaikōura. Livestream   View the Programme Notice of 2024 AGM and Notice of Special Resolution  
URL;VALUE=URI:https://ngaitahu.iwi.nz/connect-2/events/hui-a-iwi/
CLASS:PUBLIC
END:VEVENT
END:VCALENDAR
