BEGIN:VCALENDAR
VERSION:2.0
PRODID:-//Te Rūnanga o Ngāi Tahu/Waitangi Day Commemoration//NONSGML v1.0//EN
CALSCALE:GREGORIAN
BEGIN:VEVENT
DTSTAMP:20231217T235524Z
UID:89e36e3d09cb5402bf05232644076023
DTSTART:20250205T200000Z
DTEND:20250206T020000Z
SUMMARY:Waitangi Day Commemoration
DESCRIPTION:Livestream Playback
URL;VALUE=URI:https://ngaitahu.iwi.nz/connect-2/events/waitangi-commemoration-day/
CLASS:PUBLIC
END:VEVENT
END:VCALENDAR
